

BEGIN:VCALENDAR
VERSION:2.0
PRODID:-//MedicareOnDemand - ECPv6.15.20//NONSGML v1.0//EN
CALSCALE:GREGORIAN
METHOD:PUBLISH
X-ORIGINAL-URL:https://plancompareusa.com
X-WR-CALDESC:Events for MedicareOnDemand
REFRESH-INTERVAL;VALUE=DURATION:PT1H
X-Robots-Tag:noindex
X-PUBLISHED-TTL:PT1H
BEGIN:VTIMEZONE
TZID:America/Chicago
BEGIN:DAYLIGHT
TZOFFSETFROM:-0600
TZOFFSETTO:-0500
TZNAME:CDT
DTSTART:20250309T080000
END:DAYLIGHT
BEGIN:STANDARD
TZOFFSETFROM:-0500
TZOFFSETTO:-0600
TZNAME:CST
DTSTART:20251102T070000
END:STANDARD
BEGIN:DAYLIGHT
TZOFFSETFROM:-0600
TZOFFSETTO:-0500
TZNAME:CDT
DTSTART:20260308T080000
END:DAYLIGHT
BEGIN:STANDARD
TZOFFSETFROM:-0500
TZOFFSETTO:-0600
TZNAME:CST
DTSTART:20261101T070000
END:STANDARD
BEGIN:DAYLIGHT
TZOFFSETFROM:-0600
TZOFFSETTO:-0500
TZNAME:CDT
DTSTART:20270314T080000
END:DAYLIGHT
BEGIN:STANDARD
TZOFFSETFROM:-0500
TZOFFSETTO:-0600
TZNAME:CST
DTSTART:20271107T070000
END:STANDARD
END:VTIMEZONE
BEGIN:VTIMEZONE
TZID:America/Los_Angeles
BEGIN:DAYLIGHT
TZOFFSETFROM:-0800
TZOFFSETTO:-0700
TZNAME:PDT
DTSTART:20250309T100000
END:DAYLIGHT
BEGIN:STANDARD
TZOFFSETFROM:-0700
TZOFFSETTO:-0800
TZNAME:PST
DTSTART:20251102T090000
END:STANDARD
BEGIN:DAYLIGHT
TZOFFSETFROM:-0800
TZOFFSETTO:-0700
TZNAME:PDT
DTSTART:20260308T100000
END:DAYLIGHT
BEGIN:STANDARD
TZOFFSETFROM:-0700
TZOFFSETTO:-0800
TZNAME:PST
DTSTART:20261101T090000
END:STANDARD
BEGIN:DAYLIGHT
TZOFFSETFROM:-0800
TZOFFSETTO:-0700
TZNAME:PDT
DTSTART:20270314T100000
END:DAYLIGHT
BEGIN:STANDARD
TZOFFSETFROM:-0700
TZOFFSETTO:-0800
TZNAME:PST
DTSTART:20271107T090000
END:STANDARD
END:VTIMEZONE
BEGIN:VEVENT
DTSTART;TZID=America/Chicago:20260401T170000
DTEND;TZID=America/Chicago:20260501T180000
DTSTAMP:20260423T030501
CREATED:20260213T210118Z
LAST-MODIFIED:20260415T001756Z
UID:1620-1775062800-1777658400@plancompareusa.com
SUMMARY:hillcrest-april-1-2026
DESCRIPTION:Wednesday\, April 1\, 2026
URL:https://plancompareusa.com/event/hillcrest-april-1-2026/
LOCATION:Virtual Orientation using Microsoft Teams
CATEGORIES:Hillcrest
END:VEVENT
BEGIN:VEVENT
DTSTART;TZID=America/Los_Angeles:20260508T103000
DTEND;TZID=America/Los_Angeles:20260508T113000
DTSTAMP:20260423T030501
CREATED:20260216T192344Z
LAST-MODIFIED:20260416T010326Z
UID:1634-1778236200-1778239800@plancompareusa.com
SUMMARY:peacehealth-may-8-2026
DESCRIPTION:
URL:https://plancompareusa.com/event/peacehealth-may-8-2026/
LOCATION:PeaceHealth Orientation at Northwest Insurance Solutions\, 11 Bellwether Way\, Suite 106\, Bellingham\, WA\, 98225\, United States
CATEGORIES:PeaceHealth
END:VEVENT
END:VCALENDAR